Package: scDataviz Version: 1.12.0 Command: /home/biocbuild/R/R-4.3.1/bin/R CMD build --keep-empty-dirs --no-resave-data scDataviz StartedAt: 2023-11-02 05:43:52 -0000 (Thu, 02 Nov 2023) EndedAt: 2023-11-02 05:45:37 -0000 (Thu, 02 Nov 2023) EllapsedTime: 104.7 seconds RetCode: 1 Status: ERROR PackageFile: None PackageFileSize: NA