Package: scDDboost Version: 1.4.0 Command: rm -rf scDDboost.buildbin-libdir && mkdir scDDboost.buildbin-libdir && F:\biocbuild\bbs-3.18-bioc\R\bin\R.exe CMD INSTALL --build --library=scDDboost.buildbin-libdir scDDboost_1.4.0.tar.gz StartedAt: 2024-04-16 07:38:24 -0400 (Tue, 16 Apr 2024) EndedAt: 2024-04-16 07:39:55 -0400 (Tue, 16 Apr 2024) EllapsedTime: 90.6 seconds RetCode: 0 Status: OK PackageFile: scDDboost_1.4.0.zip PackageFileSize: 996.1 KiB