Package: scDDboost Version: 1.4.0 Command: /Library/Frameworks/R.framework/Resources/bin/R CMD check --install=check:scDDboost.install-out.txt --library=/Library/Frameworks/R.framework/Resources/library --no-vignettes --timings scDDboost_1.4.0.tar.gz StartedAt: 2024-04-16 08:25:41 -0400 (Tue, 16 Apr 2024) EndedAt: 2024-04-16 08:34:28 -0400 (Tue, 16 Apr 2024) EllapsedTime: 527.1 seconds RetCode: 0 Status: WARNINGS CheckDir: scDDboost.Rcheck Warnings: 1