Package: scDDboost Version: 1.4.0 Command: /home/biocbuild/R/R-4.3.1/bin/R CMD check --install=check:scDDboost.install-out.txt --library=/home/biocbuild/R/R-4.3.1/site-library --no-vignettes --timings scDDboost_1.4.0.tar.gz StartedAt: 2023-11-02 14:06:18 -0000 (Thu, 02 Nov 2023) EndedAt: 2023-11-02 14:12:00 -0000 (Thu, 02 Nov 2023) EllapsedTime: 342.6 seconds RetCode: 0 Status: OK CheckDir: scDDboost.Rcheck Warnings: 0