Package: scDDboost Version: 1.4.0 Command: /home/biocbuild/R/R-4.3.1/bin/R CMD build --keep-empty-dirs --no-resave-data scDDboost StartedAt: 2023-11-02 05:44:37 -0000 (Thu, 02 Nov 2023) EndedAt: 2023-11-02 05:47:32 -0000 (Thu, 02 Nov 2023) EllapsedTime: 174.8 seconds RetCode: 0 Status: OK PackageFile: scDDboost_1.4.0.tar.gz PackageFileSize: 818.7 KiB