Package: scDD Version: 1.26.0 Command: /home/biocbuild/R/R-4.3.1/bin/R CMD INSTALL scDD StartedAt: 2023-11-01 20:57:31 -0000 (Wed, 01 Nov 2023) EndedAt: 2023-11-01 20:58:21 -0000 (Wed, 01 Nov 2023) EllapsedTime: 50.6 seconds RetCode: 0 Status: OK