Package: scClassify Version: 1.14.0 Command: rm -rf scClassify.buildbin-libdir && mkdir scClassify.buildbin-libdir && /Users/biocbuild/BBS/utils/build-universal.sh scClassify_1.14.0.tar.gz /Library/Frameworks/R.framework/Resources/bin/R scClassify.buildbin-libdir StartedAt: 2024-04-16 12:39:44 -0400 (Tue, 16 Apr 2024) EndedAt: 2024-04-16 12:41:03 -0400 (Tue, 16 Apr 2024) EllapsedTime: 79.6 seconds RetCode: 0 Status: OK PackageFile: scClassify_1.14.0.tgz PackageFileSize: 3.332 MiB