Package: scClassify Version: 1.14.0 Command: /Library/Frameworks/R.framework/Resources/bin/R CMD build --keep-empty-dirs --no-resave-data scClassify StartedAt: 2024-03-03 18:10:30 -0500 (Sun, 03 Mar 2024) EndedAt: 2024-03-03 18:12:54 -0500 (Sun, 03 Mar 2024) EllapsedTime: 143.5 seconds RetCode: 0 Status: OK PackageFile: scClassify_1.14.0.tar.gz PackageFileSize: 2.9 MiB