Package: scClassify Version: 1.14.0 Command: rm -rf scClassify.buildbin-libdir && mkdir scClassify.buildbin-libdir && /Users/biocbuild/BBS/utils/build-universal.sh scClassify_1.14.0.tar.gz /Library/Frameworks/R.framework/Resources/bin/R scClassify.buildbin-libdir StartedAt: 2024-03-04 01:02:52 -0500 (Mon, 04 Mar 2024) EndedAt: 2024-03-04 01:03:46 -0500 (Mon, 04 Mar 2024) EllapsedTime: 54.2 seconds RetCode: 0 Status: OK PackageFile: scClassify_1.14.0.tgz PackageFileSize: 3.323 MiB