Package: scBubbletree Version: 1.4.0 Command: chmod a+r scBubbletree -R && F:\biocbuild\bbs-3.18-bioc\R\bin\R.exe CMD build --keep-empty-dirs --no-resave-data scBubbletree StartedAt: 2024-04-15 20:54:33 -0400 (Mon, 15 Apr 2024) EndedAt: 2024-04-15 21:00:02 -0400 (Mon, 15 Apr 2024) EllapsedTime: 329.3 seconds RetCode: 0 Status: OK PackageFile: scBubbletree_1.4.0.tar.gz PackageFileSize: 1.855 MiB