Package: scBubbletree Version: 1.4.0 Command: /home/biocbuild/bbs-3.18-bioc/R/bin/R CMD build --keep-empty-dirs --no-resave-data scBubbletree StartedAt: 2024-04-15 19:02:53 -0400 (Mon, 15 Apr 2024) EndedAt: 2024-04-15 19:07:09 -0400 (Mon, 15 Apr 2024) EllapsedTime: 255.9 seconds RetCode: 0 Status: OK PackageFile: scBubbletree_1.4.0.tar.gz PackageFileSize: 2.128 MiB