Package: scBubbletree Version: 1.4.0 Command: /Library/Frameworks/R.framework/Resources/bin/R CMD INSTALL scBubbletree StartedAt: 2024-03-03 15:32:24 -0500 (Sun, 03 Mar 2024) EndedAt: 2024-03-03 15:32:51 -0500 (Sun, 03 Mar 2024) EllapsedTime: 26.6 seconds RetCode: 0 Status: OK