Package: scBFA Version: 1.16.0 Command: /Library/Frameworks/R.framework/Resources/bin/R CMD check --install=check:scBFA.install-out.txt --library=/Library/Frameworks/R.framework/Resources/library --no-vignettes --timings scBFA_1.16.0.tar.gz StartedAt: 2024-03-03 23:14:14 -0500 (Sun, 03 Mar 2024) EndedAt: 2024-03-03 23:20:42 -0500 (Sun, 03 Mar 2024) EllapsedTime: 388.3 seconds RetCode: 0 Status: OK CheckDir: scBFA.Rcheck Warnings: 0