Package: scAnnotatR Version: 1.8.0 Command: rm -rf scAnnotatR.buildbin-libdir && mkdir scAnnotatR.buildbin-libdir && F:\biocbuild\bbs-3.18-bioc\R\bin\R.exe CMD INSTALL --build --library=scAnnotatR.buildbin-libdir scAnnotatR_1.8.0.tar.gz StartedAt: 2024-04-16 07:37:41 -0400 (Tue, 16 Apr 2024) EndedAt: 2024-04-16 07:38:59 -0400 (Tue, 16 Apr 2024) EllapsedTime: 77.6 seconds RetCode: 0 Status: OK PackageFile: scAnnotatR_1.8.0.zip PackageFileSize: 939.7 KiB