Package: scAnnotatR Version: 1.8.0 Command: /home/biocbuild/bbs-3.18-bioc/R/bin/R CMD check --install=check:scAnnotatR.install-out.txt --library=/home/biocbuild/bbs-3.18-bioc/R/site-library --timings scAnnotatR_1.8.0.tar.gz StartedAt: 2024-04-16 03:25:18 -0400 (Tue, 16 Apr 2024) EndedAt: 2024-04-16 03:52:15 -0400 (Tue, 16 Apr 2024) EllapsedTime: 1617.3 seconds RetCode: 0 Status: WARNINGS CheckDir: scAnnotatR.Rcheck Warnings: 1