Package: scAnnotatR Version: 1.8.0 Command: /home/biocbuild/bbs-3.18-bioc/R/bin/R CMD build --keep-empty-dirs --no-resave-data scAnnotatR StartedAt: 2024-04-15 19:01:40 -0400 (Mon, 15 Apr 2024) EndedAt: 2024-04-15 19:11:12 -0400 (Mon, 15 Apr 2024) EllapsedTime: 572.0 seconds RetCode: 0 Status: OK PackageFile: scAnnotatR_1.8.0.tar.gz PackageFileSize: 511.2 KiB