Package: sangeranalyseR Version: 1.12.0 Command: /Library/Frameworks/R.framework/Resources/bin/R CMD INSTALL sangeranalyseR StartedAt: 2024-03-03 15:41:26 -0500 (Sun, 03 Mar 2024) EndedAt: 2024-03-03 15:42:08 -0500 (Sun, 03 Mar 2024) EllapsedTime: 42.2 seconds RetCode: 0 Status: OK