Package: sampleClassifier Version: 1.26.0 Command: /home/biocbuild/bbs-3.18-bioc/R/bin/R CMD build --keep-empty-dirs --no-resave-data sampleClassifier StartedAt: 2024-04-15 19:00:08 -0400 (Mon, 15 Apr 2024) EndedAt: 2024-04-15 19:02:15 -0400 (Mon, 15 Apr 2024) EllapsedTime: 127.2 seconds RetCode: 0 Status: OK PackageFile: sampleClassifier_1.26.0.tar.gz PackageFileSize: 237.1 KiB