Package: sampleClassifier Version: 1.26.0 Command: /home/biocbuild/R/R-4.3.1/bin/R CMD check --install=check:sampleClassifier.install-out.txt --library=/home/biocbuild/R/R-4.3.1/site-library --no-vignettes --timings sampleClassifier_1.26.0.tar.gz StartedAt: 2023-11-02 14:02:13 -0000 (Thu, 02 Nov 2023) EndedAt: 2023-11-02 14:07:34 -0000 (Thu, 02 Nov 2023) EllapsedTime: 320.6 seconds RetCode: 0 Status: OK CheckDir: sampleClassifier.Rcheck Warnings: 0