Package: sSNAPPY Version: 1.6.2 Command: rm -rf sSNAPPY.buildbin-libdir && mkdir sSNAPPY.buildbin-libdir && /Users/biocbuild/BBS/utils/build-universal.sh sSNAPPY_1.6.2.tar.gz /Library/Frameworks/R.framework/Resources/bin/R sSNAPPY.buildbin-libdir StartedAt: 2024-04-16 12:49:10 -0400 (Tue, 16 Apr 2024) EndedAt: 2024-04-16 12:50:30 -0400 (Tue, 16 Apr 2024) EllapsedTime: 79.7 seconds RetCode: 0 Status: OK PackageFile: sSNAPPY_1.6.2.tgz PackageFileSize: 4.395 MiB