Package: sRACIPE Version: 1.18.0 Command: /home/biocbuild/bbs-3.18-bioc/R/bin/R CMD build --keep-empty-dirs --no-resave-data sRACIPE StartedAt: 2024-04-15 19:26:50 -0400 (Mon, 15 Apr 2024) EndedAt: 2024-04-15 19:27:52 -0400 (Mon, 15 Apr 2024) EllapsedTime: 61.2 seconds RetCode: 0 Status: OK PackageFile: sRACIPE_1.18.0.tar.gz PackageFileSize: 1.827 MiB