Package: sRACIPE Version: 1.18.0 Command: /Library/Frameworks/R.framework/Resources/bin/R CMD INSTALL sRACIPE StartedAt: 2024-04-15 15:42:42 -0400 (Mon, 15 Apr 2024) EndedAt: 2024-04-15 15:44:20 -0400 (Mon, 15 Apr 2024) EllapsedTime: 98.0 seconds RetCode: 0 Status: OK