Package: sRACIPE Version: 1.18.0 Command: /Library/Frameworks/R.framework/Resources/bin/R CMD build --keep-empty-dirs --no-resave-data sRACIPE StartedAt: 2024-03-03 18:28:47 -0500 (Sun, 03 Mar 2024) EndedAt: 2024-03-03 18:29:57 -0500 (Sun, 03 Mar 2024) EllapsedTime: 69.7 seconds RetCode: 0 Status: OK PackageFile: sRACIPE_1.18.0.tar.gz PackageFileSize: 1.852 MiB