Package: sRACIPE Version: 1.18.0 Command: /home/biocbuild/R/R-4.3.1/bin/R CMD check --install=check:sRACIPE.install-out.txt --library=/home/biocbuild/R/R-4.3.1/site-library --no-vignettes --timings sRACIPE_1.18.0.tar.gz StartedAt: 2023-11-02 14:37:31 -0000 (Thu, 02 Nov 2023) EndedAt: 2023-11-02 14:41:25 -0000 (Thu, 02 Nov 2023) EllapsedTime: 234.4 seconds RetCode: 0 Status: OK CheckDir: sRACIPE.Rcheck Warnings: 0