Package: rrvgo Version: 1.14.2 Command: F:\biocbuild\bbs-3.18-bioc\R\bin\R.exe CMD check --no-multiarch --install=check:rrvgo.install-out.txt --library=F:\biocbuild\bbs-3.18-bioc\R\library --no-vignettes --timings rrvgo_1.14.2.tar.gz StartedAt: 2024-04-16 04:35:24 -0400 (Tue, 16 Apr 2024) EndedAt: 2024-04-16 04:43:39 -0400 (Tue, 16 Apr 2024) EllapsedTime: 495.1 seconds RetCode: 0 Status: OK CheckDir: rrvgo.Rcheck Warnings: 0