Package: rrvgo Version: 1.14.2 Command: chmod a+r rrvgo -R && F:\biocbuild\bbs-3.18-bioc\R\bin\R.exe CMD build --keep-empty-dirs --no-resave-data rrvgo StartedAt: 2024-04-15 20:49:10 -0400 (Mon, 15 Apr 2024) EndedAt: 2024-04-15 20:50:46 -0400 (Mon, 15 Apr 2024) EllapsedTime: 96.5 seconds RetCode: 0 Status: OK PackageFile: rrvgo_1.14.2.tar.gz PackageFileSize: 1.552 MiB