Package: rrvgo Version: 1.14.2 Command: /home/biocbuild/bbs-3.18-bioc/R/bin/R CMD INSTALL rrvgo StartedAt: 2024-04-15 15:28:52 -0400 (Mon, 15 Apr 2024) EndedAt: 2024-04-15 15:29:11 -0400 (Mon, 15 Apr 2024) EllapsedTime: 19.0 seconds RetCode: 0 Status: OK