Package: rrvgo Version: 1.14.2 Command: /home/biocbuild/bbs-3.18-bioc/R/bin/R CMD build --keep-empty-dirs --no-resave-data rrvgo StartedAt: 2024-04-15 18:57:32 -0400 (Mon, 15 Apr 2024) EndedAt: 2024-04-15 18:58:41 -0400 (Mon, 15 Apr 2024) EllapsedTime: 69.0 seconds RetCode: 0 Status: OK PackageFile: rrvgo_1.14.2.tar.gz PackageFileSize: 1.771 MiB