Package: rrvgo Version: 1.14.1 Command: /Library/Frameworks/R.framework/Resources/bin/R CMD build --keep-empty-dirs --no-resave-data rrvgo StartedAt: 2024-03-03 18:06:32 -0500 (Sun, 03 Mar 2024) EndedAt: 2024-03-03 18:09:10 -0500 (Sun, 03 Mar 2024) EllapsedTime: 158.1 seconds RetCode: 0 Status: OK PackageFile: rrvgo_1.14.1.tar.gz PackageFileSize: 1.815 MiB