Package: rrvgo Version: 1.14.0 Command: /home/biocbuild/R/R-4.3.1/bin/R CMD check --install=check:rrvgo.install-out.txt --library=/home/biocbuild/R/R-4.3.1/site-library --no-vignettes --timings rrvgo_1.14.0.tar.gz StartedAt: 2023-11-02 13:55:27 -0000 (Thu, 02 Nov 2023) EndedAt: 2023-11-02 14:06:24 -0000 (Thu, 02 Nov 2023) EllapsedTime: 657.4 seconds RetCode: 0 Status: OK CheckDir: rrvgo.Rcheck Warnings: 0