Package: rqubic Version: 1.48.0 Command: /Library/Frameworks/R.framework/Resources/bin/R CMD INSTALL rqubic StartedAt: 2024-03-03 15:37:50 -0500 (Sun, 03 Mar 2024) EndedAt: 2024-03-03 15:38:04 -0500 (Sun, 03 Mar 2024) EllapsedTime: 14.2 seconds RetCode: 0 Status: OK