Package: rqt Version: 1.28.0 Command: rm -rf rqt.buildbin-libdir && mkdir rqt.buildbin-libdir && /Users/biocbuild/BBS/utils/build-universal.sh rqt_1.28.0.tar.gz /Library/Frameworks/R.framework/Resources/bin/R rqt.buildbin-libdir StartedAt: 2024-03-04 01:01:20 -0500 (Mon, 04 Mar 2024) EndedAt: 2024-03-04 01:02:03 -0500 (Mon, 04 Mar 2024) EllapsedTime: 42.7 seconds RetCode: 0 Status: OK PackageFile: rqt_1.28.0.tgz PackageFileSize: 898.5 KiB