Package: rqt Version: 1.28.0 Command: /home/biocbuild/R/R-4.3.1/bin/R CMD INSTALL rqt StartedAt: 2023-11-01 20:54:44 -0000 (Wed, 01 Nov 2023) EndedAt: 2023-11-01 20:55:23 -0000 (Wed, 01 Nov 2023) EllapsedTime: 38.1 seconds RetCode: 0 Status: OK