Package: rpx Version: 2.10.0 Command: rm -rf rpx.buildbin-libdir && mkdir rpx.buildbin-libdir && /Users/biocbuild/BBS/utils/build-universal.sh rpx_2.10.0.tar.gz /Library/Frameworks/R.framework/Resources/bin/R rpx.buildbin-libdir StartedAt: 2024-03-04 01:01:20 -0500 (Mon, 04 Mar 2024) EndedAt: 2024-03-04 01:01:33 -0500 (Mon, 04 Mar 2024) EllapsedTime: 12.5 seconds RetCode: 0 Status: OK PackageFile: rpx_2.10.0.tgz PackageFileSize: 482.6 KiB