Package: roastgsa Version: 1.0.0 Command: /home/biocbuild/bbs-3.18-bioc/R/bin/R CMD build --keep-empty-dirs --no-resave-data roastgsa StartedAt: 2024-04-15 18:56:11 -0400 (Mon, 15 Apr 2024) EndedAt: 2024-04-15 18:57:26 -0400 (Mon, 15 Apr 2024) EllapsedTime: 75.6 seconds RetCode: 0 Status: OK PackageFile: roastgsa_1.0.0.tar.gz PackageFileSize: 1.78 MiB