Package: roastgsa Version: 1.0.0 Command: /Library/Frameworks/R.framework/Resources/bin/R CMD INSTALL roastgsa StartedAt: 2024-04-15 15:14:41 -0400 (Mon, 15 Apr 2024) EndedAt: 2024-04-15 15:14:57 -0400 (Mon, 15 Apr 2024) EllapsedTime: 16.2 seconds RetCode: 0 Status: OK