Package: roar Version: 1.38.0 Command: F:\biocbuild\bbs-3.18-bioc\R\bin\R.exe CMD INSTALL roar StartedAt: 2024-04-15 15:58:38 -0400 (Mon, 15 Apr 2024) EndedAt: 2024-04-15 15:59:25 -0400 (Mon, 15 Apr 2024) EllapsedTime: 47.6 seconds RetCode: 0 Status: OK