Package: roar Version: 1.38.0 Command: F:\biocbuild\bbs-3.18-bioc\R\bin\R.exe CMD check --no-multiarch --install=check:roar.install-out.txt --library=F:\biocbuild\bbs-3.18-bioc\R\library --no-vignettes --timings roar_1.38.0.tar.gz StartedAt: 2024-04-16 04:31:25 -0400 (Tue, 16 Apr 2024) EndedAt: 2024-04-16 04:35:42 -0400 (Tue, 16 Apr 2024) EllapsedTime: 256.6 seconds RetCode: 0 Status: OK CheckDir: roar.Rcheck Warnings: 0