Package: roar Version: 1.38.0 Command: /Library/Frameworks/R.framework/Resources/bin/R CMD INSTALL roar StartedAt: 2024-04-15 15:31:28 -0400 (Mon, 15 Apr 2024) EndedAt: 2024-04-15 15:32:36 -0400 (Mon, 15 Apr 2024) EllapsedTime: 68.2 seconds RetCode: 0 Status: OK