Package: roar Version: 1.38.0 Command: /Library/Frameworks/R.framework/Resources/bin/R CMD check --install=check:roar.install-out.txt --library=/Library/Frameworks/R.framework/Resources/library --no-vignettes --timings roar_1.38.0.tar.gz StartedAt: 2024-04-16 08:02:14 -0400 (Tue, 16 Apr 2024) EndedAt: 2024-04-16 08:11:01 -0400 (Tue, 16 Apr 2024) EllapsedTime: 526.3 seconds RetCode: 0 Status: OK CheckDir: roar.Rcheck Warnings: 0