Package: roar Version: 1.38.0 Command: /Library/Frameworks/R.framework/Resources/bin/R CMD check --install=check:roar.install-out.txt --library=/Library/Frameworks/R.framework/Resources/library --no-vignettes --timings roar_1.38.0.tar.gz StartedAt: 2024-03-03 23:04:53 -0500 (Sun, 03 Mar 2024) EndedAt: 2024-03-03 23:09:42 -0500 (Sun, 03 Mar 2024) EllapsedTime: 288.9 seconds RetCode: 0 Status: OK CheckDir: roar.Rcheck Warnings: 0