Package: roar Version: 1.38.0 Command: rm -rf roar.buildbin-libdir && mkdir roar.buildbin-libdir && /Users/biocbuild/BBS/utils/build-universal.sh roar_1.38.0.tar.gz /Library/Frameworks/R.framework/Resources/bin/R roar.buildbin-libdir StartedAt: 2024-03-04 01:00:58 -0500 (Mon, 04 Mar 2024) EndedAt: 2024-03-04 01:01:46 -0500 (Mon, 04 Mar 2024) EllapsedTime: 48.5 seconds RetCode: 0 Status: OK PackageFile: roar_1.38.0.tgz PackageFileSize: 1.242 MiB