Package: rnaEditr Version: 1.12.0 Command: chmod a+r rnaEditr -R && F:\biocbuild\bbs-3.18-bioc\R\bin\R.exe CMD build --keep-empty-dirs --no-resave-data rnaEditr StartedAt: 2024-04-15 20:45:05 -0400 (Mon, 15 Apr 2024) EndedAt: 2024-04-15 20:46:16 -0400 (Mon, 15 Apr 2024) EllapsedTime: 71.9 seconds RetCode: 0 Status: OK PackageFile: rnaEditr_1.12.0.tar.gz PackageFileSize: 1.052 MiB