Package: rmspc Version: 1.8.0 Command: F:\biocbuild\bbs-3.18-bioc\R\bin\R.exe CMD INSTALL rmspc StartedAt: 2024-04-15 16:08:46 -0400 (Mon, 15 Apr 2024) EndedAt: 2024-04-15 16:09:24 -0400 (Mon, 15 Apr 2024) EllapsedTime: 38.0 seconds RetCode: 0 Status: OK