Package: rmelting Version: 1.18.0 Command: rm -rf rmelting.buildbin-libdir && mkdir rmelting.buildbin-libdir && /Users/biocbuild/BBS/utils/build-universal.sh rmelting_1.18.0.tar.gz /Library/Frameworks/R.framework/Resources/bin/R rmelting.buildbin-libdir StartedAt: 2024-03-04 01:00:27 -0500 (Mon, 04 Mar 2024) EndedAt: 2024-03-04 01:00:35 -0500 (Mon, 04 Mar 2024) EllapsedTime: 8.0 seconds RetCode: 0 Status: OK PackageFile: rmelting_1.18.0.tgz PackageFileSize: 2.429 MiB