Package: rifiComparative Version: 1.2.0 Command: /Library/Frameworks/R.framework/Resources/bin/R CMD INSTALL rifiComparative StartedAt: 2024-04-15 16:03:44 -0400 (Mon, 15 Apr 2024) EndedAt: 2024-04-15 16:04:55 -0400 (Mon, 15 Apr 2024) EllapsedTime: 70.7 seconds RetCode: 0 Status: OK