Package: rifiComparative Version: 1.2.0 Command: /Library/Frameworks/R.framework/Resources/bin/R CMD build --keep-empty-dirs --no-resave-data rifiComparative StartedAt: 2024-04-15 21:19:39 -0400 (Mon, 15 Apr 2024) EndedAt: 2024-04-15 21:36:58 -0400 (Mon, 15 Apr 2024) EllapsedTime: 1039.3 seconds RetCode: 0 Status: OK PackageFile: rifiComparative_1.2.0.tar.gz PackageFileSize: 3.149 MiB