Package: ribosomeProfilingQC Version: 1.14.1 Command: /home/biocbuild/bbs-3.18-bioc/R/bin/R CMD check --install=check:ribosomeProfilingQC.install-out.txt --library=/home/biocbuild/bbs-3.18-bioc/R/site-library --timings ribosomeProfilingQC_1.14.1.tar.gz StartedAt: 2024-04-16 03:01:40 -0400 (Tue, 16 Apr 2024) EndedAt: 2024-04-16 03:16:40 -0400 (Tue, 16 Apr 2024) EllapsedTime: 900.3 seconds RetCode: 0 Status: OK CheckDir: ribosomeProfilingQC.Rcheck Warnings: 0