Package: riboSeqR Version: 1.36.0 Command: /Library/Frameworks/R.framework/Resources/bin/R CMD build --keep-empty-dirs --no-resave-data riboSeqR StartedAt: 2024-04-15 21:18:43 -0400 (Mon, 15 Apr 2024) EndedAt: 2024-04-15 21:19:41 -0400 (Mon, 15 Apr 2024) EllapsedTime: 58.6 seconds RetCode: 0 Status: OK PackageFile: riboSeqR_1.36.0.tar.gz PackageFileSize: 3.648 MiB