Package: rgoslin Version: 1.6.0 Command: /Library/Frameworks/R.framework/Resources/bin/R CMD check --install=check:rgoslin.install-out.txt --library=/Library/Frameworks/R.framework/Resources/library --no-vignettes --timings rgoslin_1.6.0.tar.gz StartedAt: 2024-04-16 07:45:41 -0400 (Tue, 16 Apr 2024) EndedAt: 2024-04-16 07:46:31 -0400 (Tue, 16 Apr 2024) EllapsedTime: 50.8 seconds RetCode: 0 Status: OK CheckDir: rgoslin.Rcheck Warnings: 0